BEGIN:VCALENDAR
VERSION:2.0
PRODID:-//CREW Palm Beach / Treasure Coast - ECPv6.15.20//NONSGML v1.0//EN
CALSCALE:GREGORIAN
METHOD:PUBLISH
X-ORIGINAL-URL:https://crewpbtc.org
X-WR-CALDESC:Events for CREW Palm Beach / Treasure Coast
REFRESH-INTERVAL;VALUE=DURATION:PT1H
X-Robots-Tag:noindex
X-PUBLISHED-TTL:PT1H
BEGIN:VTIMEZONE
TZID:America/New_York
BEGIN:DAYLIGHT
TZOFFSETFROM:-0500
TZOFFSETTO:-0400
TZNAME:EDT
DTSTART:20240310T070000
END:DAYLIGHT
BEGIN:STANDARD
TZOFFSETFROM:-0400
TZOFFSETTO:-0500
TZNAME:EST
DTSTART:20241103T060000
END:STANDARD
BEGIN:DAYLIGHT
TZOFFSETFROM:-0500
TZOFFSETTO:-0400
TZNAME:EDT
DTSTART:20250309T070000
END:DAYLIGHT
BEGIN:STANDARD
TZOFFSETFROM:-0400
TZOFFSETTO:-0500
TZNAME:EST
DTSTART:20251102T060000
END:STANDARD
BEGIN:DAYLIGHT
TZOFFSETFROM:-0500
TZOFFSETTO:-0400
TZNAME:EDT
DTSTART:20260308T070000
END:DAYLIGHT
BEGIN:STANDARD
TZOFFSETFROM:-0400
TZOFFSETTO:-0500
TZNAME:EST
DTSTART:20261101T060000
END:STANDARD
END:VTIMEZONE
BEGIN:VEVENT
DTSTART;TZID=America/New_York:20250424T083000
DTEND;TZID=America/New_York:20250424T100000
DTSTAMP:20260423T202059
CREATED:20250122T092107Z
LAST-MODIFIED:20250327T091547Z
UID:9459-1745483400-1745488800@crewpbtc.org
SUMMARY:Coffee Talk - Take Your Child to Work Day
DESCRIPTION:April 24th is Take Your Child to Work Day. This U.S. national holiday gives children a glimpse into the working world. Gloria Steinem created the day in 1992 with the intent to inspire youngsters into future job opportunities and the significance of education. \nSo\, before heading to the office\, come join us for a Coffee Talk. There will be a panel of CREW PBTC member women entrepreneurs who will be sharing their stories and advice on how they got to where they are today\, with all the bumps and curves along the way. Children & Adults – are invited to ask questions and participate in the conversation. \nPlease note that this event is not only for children and parents. We encourage all members and guest to attend. \nDate: Thursday\, April 24\, 2025\nTime: 8:30 a.m. – 10 a.m. \nLight breakfast and coffee will be served. \n\n  \n   \nPanelists:\nSandra Pabon\, VP & Owner\, Itasca Construction Associates\, Inc. – [Read Bio]\nKatie Newitt\, Vice President\, A1 Moving & Storage – [Read Bio]\nNiki Norton\, Owner of N2 Architecture + Design – [Read Bio]\nLori Bliss Tambone\, Owner of Tambone Companies – [Read Bio] \n\nCity of Palm Beach Gardens Tennis & Pickleball Facility\n5110 117th Court N\nPalm Beach Gardens\, FL 33418 \n\nEarly Bird Special for Members Only:  $25 Member\nAfter 4/10th Members Fee: $35\nNon-Members: $45\, no early bird special\nRegistration Closes: Monday\, 4/21st at end of the day\nWalk-In Fee: $45 Member\, $55 Non-Member\nChildren: Free admission\n\nRegistration: Register Here
URL:https://crewpbtc.org/event/coffee-talk-take-your-child-to-work-day/
LOCATION:Palm Beach Gardens Tennis & Pickleball Center\, 5110 117th Ct. N.\, Palm Beach Gardens\, FL\, 33418\, United States
CATEGORIES:Home Page Featured Three Right
ATTACH;FMTTYPE=image/webp:https://crewpbtc.org/wp-content/uploads/2025/01/4-24-2025-Coffee-Talk-Take-Your-Child-to-Work-Day.webp
END:VEVENT
END:VCALENDAR