BEGIN:VCALENDAR
VERSION:2.0
PRODID:-//CREW Palm Beach / Treasure Coast - ECPv6.15.20//NONSGML v1.0//EN
CALSCALE:GREGORIAN
METHOD:PUBLISH
X-WR-CALNAME:CREW Palm Beach / Treasure Coast
X-ORIGINAL-URL:https://crewpbtc.org
X-WR-CALDESC:Events for CREW Palm Beach / Treasure Coast
REFRESH-INTERVAL;VALUE=DURATION:PT1H
X-Robots-Tag:noindex
X-PUBLISHED-TTL:PT1H
BEGIN:VTIMEZONE
TZID:America/New_York
BEGIN:DAYLIGHT
TZOFFSETFROM:-0500
TZOFFSETTO:-0400
TZNAME:EDT
DTSTART:20210314T070000
END:DAYLIGHT
BEGIN:STANDARD
TZOFFSETFROM:-0400
TZOFFSETTO:-0500
TZNAME:EST
DTSTART:20211107T060000
END:STANDARD
BEGIN:DAYLIGHT
TZOFFSETFROM:-0500
TZOFFSETTO:-0400
TZNAME:EDT
DTSTART:20220313T070000
END:DAYLIGHT
BEGIN:STANDARD
TZOFFSETFROM:-0400
TZOFFSETTO:-0500
TZNAME:EST
DTSTART:20221106T060000
END:STANDARD
BEGIN:DAYLIGHT
TZOFFSETFROM:-0500
TZOFFSETTO:-0400
TZNAME:EDT
DTSTART:20230312T070000
END:DAYLIGHT
BEGIN:STANDARD
TZOFFSETFROM:-0400
TZOFFSETTO:-0500
TZNAME:EST
DTSTART:20231105T060000
END:STANDARD
END:VTIMEZONE
BEGIN:VEVENT
DTSTART;TZID=America/New_York:20221123T120000
DTEND;TZID=America/New_York:20221123T130000
DTSTAMP:20260424T031232
CREATED:20220222T123534Z
LAST-MODIFIED:20220222T123534Z
UID:6985-1669204800-1669208400@crewpbtc.org
SUMMARY:Programs Committee Meeting
DESCRIPTION:The programs committee meets monthly. For more information\, contact the committee chair\, Jamie Beale Howe at jamie@jbh.enterprises
URL:https://crewpbtc.org/event/programs-committee-meeting-10/
LOCATION:Florida
END:VEVENT
BEGIN:VEVENT
DTSTART;TZID=America/New_York:20221103T170000
DTEND;TZID=America/New_York:20221103T200000
DTSTAMP:20260424T031232
CREATED:20220714T113522Z
LAST-MODIFIED:20221109T214915Z
UID:7136-1667494800-1667505600@crewpbtc.org
SUMMARY:CREW BREW - Part 2 (The Tasting)
DESCRIPTION:Thursday\, November 3\, 2022\n5-8 p.m.\n \nCome join CREW and the Treasure Coast Builder’s Association (TCBA) as we sample our creatively crafted beer\, network\, and raise donations for CREW Network and Charitable Funds for Skilled Trades. This will be an evening event and we will be raising funds for the CREW Network Foundation. \n\nOcean Republic Brewing\n1630 SE Federal Hwy\, Stuart\, FL 34994 \nOpen to all Member and Nonmembers – $45 \nRegistration is being handled by Ocean Republic Brewing. Please click on the Register link below.\nIf you were scheduled to attend this event on September 29\, your registration will be good for this date. \nRegistration: Register Here \n\nName the Brew!\nHave you ever wanted to name a beer? Let’s get our creative juices flowing – CREW BREW needs a name. The beer\, which is being crafted exclusively for CREW and TCBA\, is a blueberry lager with a hint of local coffee from The Roasted Record. \nPlease submit your proposed names to pbtc@crewnetwork.org by 9/21. The winning entry will receive a free ticket to CREW Brew Part II. \n\nSponsors are:\nTreasure Coast Builder’s Association (TCBA)\nOcean Republic Brewing
URL:https://crewpbtc.org/event/crew-brew-part-2/
LOCATION:Ocean Republic Brewing\, 1630 SE Federal Hwy\, Stuart\, FL\, 34994
ATTACH;FMTTYPE=image/jpeg:https://crewpbtc.org/wp-content/uploads/2022/07/CREW-BREW-Part-2-September-29-2022.jpg
END:VEVENT
BEGIN:VEVENT
DTSTART;TZID=America/New_York:20221103T090000
DTEND;TZID=America/New_York:20221103T110000
DTSTAMP:20260424T031232
CREATED:20220122T220242Z
LAST-MODIFIED:20220916T084755Z
UID:6834-1667466000-1667473200@crewpbtc.org
SUMMARY:Board of Directors Year-End Strategic Planning Meeting
DESCRIPTION:
URL:https://crewpbtc.org/event/board-of-directors-year-end-strategic-planning-meeting-3/
LOCATION:Florida
END:VEVENT
BEGIN:VEVENT
DTSTART;TZID=America/New_York:20221026T120000
DTEND;TZID=America/New_York:20221026T130000
DTSTAMP:20260424T031232
CREATED:20220222T123435Z
LAST-MODIFIED:20221003T153406Z
UID:6983-1666785600-1666789200@crewpbtc.org
SUMMARY:Programs Committee Meeting
DESCRIPTION:The programs committee meets monthly. For more information\, contact the committee chair\, Jamie Beale Howe at jamie@jbh.enterprises
URL:https://crewpbtc.org/event/programs-committee-meeting-9/
LOCATION:Florida
END:VEVENT
BEGIN:VEVENT
DTSTART;TZID=America/New_York:20221025T173000
DTEND;TZID=America/New_York:20221025T203000
DTSTAMP:20260424T031232
CREATED:20220820T103726Z
LAST-MODIFIED:20231205T155303Z
UID:7253-1666719000-1666729800@crewpbtc.org
SUMMARY:CREW PBTC Past Presidents Council is hosting a Meet and Greet for our New Members
DESCRIPTION:Date: Tuesday\, October 25\, 2022\nTime: 5:30 p.m. – 8:30 p.m. \n\nCooper’s Hawk Winery\n3101 PGA Boulevard Ste P201\, Palm Beach Gardens\, FL 33410 \nMembers $30 | Nonmembers $40 \nRegistration: Register Here \n\nSponsors are Cornerstone Realty & Eldler and Estate Planning Attorneys\, PA
URL:https://crewpbtc.org/event/crew-pbtc-past-presidents-council-is-hosting-a-meet-and-greet-for-our-new-members/
LOCATION:Cooper’s Hawk Winery\, 3101 PGA Boulevard Ste P201\, Palm Beach Gardens\, FL\, 33410
ATTACH;FMTTYPE=image/jpeg:https://crewpbtc.org/wp-content/uploads/2022/08/Meet-and-Greet-for-our-New-Members-October-25-2022.jpg
END:VEVENT
BEGIN:VEVENT
DTSTART;TZID=America/New_York:20221012T110000
DTEND;TZID=America/New_York:20221012T133000
DTSTAMP:20260424T031232
CREATED:20220714T113931Z
LAST-MODIFIED:20221106T163223Z
UID:7139-1665572400-1665581400@crewpbtc.org
SUMMARY:Hero Begins with HER!
DESCRIPTION:Second Annual Women’s Empowerment Luncheon \nDate: Wednesday\, October 12\, 2022\nTime: 11:30 a.m. – 1 p.m. \nPlease join us for our Second Annual Women’s Empowerment luncheon and listen to the journey of our hometown hero Kate Arrizza she tells her story of serving as an officer in the Navy and being the first female on her ship to working her way to being the President and CEO of the Cox Science Center and Aquarium. \n\n\nSpeaker:\nKate Arrizza\nPresident and Chief Executive Officer of the Cox Science Center and Aquarium\nRead Bio \n\nFrenchman’s Reserve Country Club\n3370 Grande Corniche\, Palm Beach Gardens\, FL 33410\nComplimentary valet parking is available. \nGift basket raffle begins at 11 a.m. and raffle tickets will be available to purchase for $20. \nMembers $75 | Nonmembers $100 \nSponsorship opportunities are available\, and you can sign up through the registration link below. All sponsorships and copy ads are due by October 5. \nRegistration: Register Here \n\nSponsored By\nElder & Estate Planning Attorneys PA
URL:https://crewpbtc.org/event/annual-signature-event/
LOCATION:Frenchman’s Reserve Country Club\, 3370 Grande Corniche\, Palm Beach Gardens\, FL\, 33410
ATTACH;FMTTYPE=image/jpeg:https://crewpbtc.org/wp-content/uploads/2022/07/HERO-Begins-With-HER.jpg
END:VEVENT
BEGIN:VEVENT
DTSTART;TZID=America/New_York:20221006T090000
DTEND;TZID=America/New_York:20221006T110000
DTSTAMP:20260424T031232
CREATED:20220122T220436Z
LAST-MODIFIED:20221003T153202Z
UID:6841-1665046800-1665054000@crewpbtc.org
SUMMARY:Board of Directors Meeting
DESCRIPTION:
URL:https://crewpbtc.org/event/board-of-directors-meeting-30/
LOCATION:Florida
END:VEVENT
BEGIN:VEVENT
DTSTART;TZID=America/New_York:20220930T180000
DTEND;TZID=America/New_York:20220930T210000
DTSTAMP:20260424T031232
CREATED:20220920T105035Z
LAST-MODIFIED:20221003T142557Z
UID:7305-1664560800-1664571600@crewpbtc.org
SUMMARY:Women’s Empowerment Signature Event Gift Gathering & Sponsorship Celebration
DESCRIPTION:Second Annual Women’s Empowerment Signature Event Gift Gathering & Sponsorship Celebration \nDate: Friday\, September 30\, 2022\nTime: 6:00 pm to 9:00 pm \nCREW Palm Beach-Teasure Coast invites you to the Second Annual Women’s Empowerment Signature Event Gift Gathering & Sponsorship Celebration for cocktails & hors d’oeuvres. \n\nHome of Laura King-Curran & Neil Curran\n530 Les Jardin Drive\, Palm Beach Gardens\, FL \nA gift basket or donation for our auction of $100 per person/couple is requested\nIf invited as a sponsor of the event\, no donation is required \nRegistration: Please RSVP to Laura King-Curran at 561-373-7270 or laura.king@firstcitizens.com \n\nAuction proceeds benefit:\nCOX Science Center and Aquarium\nCREW Network Foundation \n  \n\nSponsors are Edward Jones and First Citizens Bank
URL:https://crewpbtc.org/event/womens-empowerment-signature-event-gift-gathering-sponsorship-celebration/
LOCATION:The Home of Laura King-Curran & Neil Curran\, 530 Les Jardin Drive\, Palm Beach Gardens\, FL
ATTACH;FMTTYPE=image/jpeg:https://crewpbtc.org/wp-content/uploads/2022/09/Second-Annual-Womens-Event-Gift-Gathering-Sponsorship-Celebration.jpg
END:VEVENT
BEGIN:VEVENT
DTSTART;TZID=America/New_York:20220928T120000
DTEND;TZID=America/New_York:20220928T130000
DTSTAMP:20260424T031232
CREATED:20220222T123338Z
LAST-MODIFIED:20220222T123338Z
UID:6981-1664366400-1664370000@crewpbtc.org
SUMMARY:Programs Committee Meeting
DESCRIPTION:The programs committee meets monthly. For more information\, contact the committee chair\, Jamie Beale Howe at jamie@jbh.enterprises
URL:https://crewpbtc.org/event/programs-committee-meeting-8/
LOCATION:Florida
END:VEVENT
BEGIN:VEVENT
DTSTART;TZID=America/New_York:20220915T180000
DTEND;TZID=America/New_York:20220915T210000
DTSTAMP:20260424T031232
CREATED:20220713T113313Z
LAST-MODIFIED:20220917T095229Z
UID:7282-1663264800-1663275600@crewpbtc.org
SUMMARY:CREW Tri-County Networker
DESCRIPTION:Take the Brightline and join three counties to network at the Fall 2022 kick off. \nDate: Thursday\, September 15\, 2022\nTime: 6-9 p.m. \nRegistration is being handled by CREW Miami\, please click on the link below to register. \n\nBrightline Miami Station\n600 NW 1st Ave.\, Miami\, FL 33136 \nMembers – $60 | Nonmembers – $75 \nSponsorship opportunities are available. \nRegistration: Register Here
URL:https://crewpbtc.org/event/crew-tri-county-networker/
LOCATION:Brightline Miami Station\, 600 NW 1st Ave.\, Miami\, FL\, 33136\, United States
ATTACH;FMTTYPE=image/jpeg:https://crewpbtc.org/wp-content/uploads/2022/09/Crew-Tri-County-Networker.jpg
END:VEVENT
BEGIN:VEVENT
DTSTART;TZID=America/New_York:20220913T113000
DTEND;TZID=America/New_York:20220913T130000
DTSTAMP:20260424T031232
CREATED:20220714T113015Z
LAST-MODIFIED:20220914T105548Z
UID:7129-1663068600-1663074000@crewpbtc.org
SUMMARY:The Canvassing Queen
DESCRIPTION:The Canvassing Queen \nDate: Tuesday\, September 13\, 2022\nTime: 11:30 a.m. – 1 p.m. \nJoin us as Beth helps us rethink about real estate: Big box and pop-up stores. Affectionately known as ‘The Canvassing Queen™’ Beth Azor is the founder and owner of Azor Advisory Services (AAS)\, a leading commercial real estate advisory and investment firm based in Southeast Florida. As its principal\, Beth currently owns and manages six shopping centers in Florida and travels the country consulting with\, brokering deals for and training associates in the commercial real estate industry. \n\n \nSpeaker:\nBeth Azor\, Founder & Owner\, Azor Advisory Services (AAS)\nRead Bio \n\nDoubleTree by Hilton\n4431 PGA Boulevard\, Palm Beach Gardens\, FL \nMembers $50 | Nonmembers $60\n9/6th Price increases by $10. \nRegistration: Register Here \n\nSponsors are First Citizens Bank & PulteGroup
URL:https://crewpbtc.org/event/the-canvassing-queen/
LOCATION:DoubleTree\, 4431 PGA Blvd\, Palm Beach Gardens\, FL\, 33410
ATTACH;FMTTYPE=image/jpeg:https://crewpbtc.org/wp-content/uploads/2022/07/Beth-Azor-Event-September-13-2022.jpg
END:VEVENT
BEGIN:VEVENT
DTSTART;TZID=America/New_York:20220901T090000
DTEND;TZID=America/New_York:20220901T110000
DTSTAMP:20260424T031232
CREATED:20220122T220403Z
LAST-MODIFIED:20220916T084638Z
UID:6839-1662022800-1662030000@crewpbtc.org
SUMMARY:Board of Directors Meeting
DESCRIPTION:
URL:https://crewpbtc.org/event/board-of-directors-meeting-29/
LOCATION:Florida
END:VEVENT
BEGIN:VEVENT
DTSTART;TZID=America/New_York:20220824T120000
DTEND;TZID=America/New_York:20220824T130000
DTSTAMP:20260424T031232
CREATED:20220222T123250Z
LAST-MODIFIED:20220222T123250Z
UID:6979-1661342400-1661346000@crewpbtc.org
SUMMARY:Programs Committee Meeting
DESCRIPTION:The programs committee meets monthly. For more information\, contact the committee chair\, Jamie Beale Howe at jamie@jbh.enterprises
URL:https://crewpbtc.org/event/programs-committee-meeting-7/
LOCATION:Florida
END:VEVENT
BEGIN:VEVENT
DTSTART;TZID=America/New_York:20220824T110000
DTEND;TZID=America/New_York:20220824T130000
DTSTAMP:20260424T031232
CREATED:20220714T110848Z
LAST-MODIFIED:20220912T162350Z
UID:7125-1661338800-1661346000@crewpbtc.org
SUMMARY:CREW BREW - Part 1
DESCRIPTION:Date: Wednesday\, August 24\, 2022\nTime: 11 a.m. – 1 p.m. \nOur CREW chapter is collaborating with the Treasure Coast Builder’s Association (TCBA) on an exciting and charitable\, two-part event! Part 1 is an exclusive\, sponsor-only opportunity to go behind the scenes\, learn about the brewing process\, and brew our own beer. Registration is open\, and CREW has only 10 spots available\, so don’t miss out! \nAnnual Sponsor Members only – $30 \nRegistration: Register Here \n\nSponsor is Treasure Coast Builders Association
URL:https://crewpbtc.org/event/crew-brew-part-1/
LOCATION:Florida
ATTACH;FMTTYPE=image/jpeg:https://crewpbtc.org/wp-content/uploads/2022/07/CREW-BREW-Part-1-August-24-2022.jpg
END:VEVENT
BEGIN:VEVENT
DTSTART;TZID=America/New_York:20220819T090000
DTEND;TZID=America/New_York:20220819T110000
DTSTAMP:20260424T031232
CREATED:20220122T220330Z
LAST-MODIFIED:20220122T220330Z
UID:6836-1660899600-1660906800@crewpbtc.org
SUMMARY:Board of Directors Meeting
DESCRIPTION:
URL:https://crewpbtc.org/event/board-of-directors-meeting-28/
LOCATION:Florida
END:VEVENT
BEGIN:VEVENT
DTSTART;TZID=America/New_York:20220809T113000
DTEND;TZID=America/New_York:20220809T130000
DTSTAMP:20260424T031232
CREATED:20220714T000904Z
LAST-MODIFIED:20220819T094630Z
UID:7118-1660044600-1660050000@crewpbtc.org
SUMMARY:Palm Beach County Business Development Updates
DESCRIPTION:Palm Beach County Business Development Updates from Kelly Smallridge\, President & CEO of the Business Development Board of Palm Beach County \nDate: Tuesday\, August 9\, 2022\nTime: 11:30 a.m. – 1 p.m. \nJoin us as we learn about all the new companies and industries that have relocated here in the past two years and hear why Kelly says Palm Beach County has the perfect business climate. \n\n \nSpeaker:\nKelly Smallridge\, President & CEO\, Business Development Board of Palm Beach County\, Inc.\nRead Bio \n\nDoubleTree by Hilton \n4431 PGA Boulevard\, Palm Beach Gardens\, FL \nMembers $50 | Nonmembers $60\n8/2nd – Price increases by $10 \nRegistration: Register Here \n\nSponsors are JBH Enterprises and First Horizon Bank
URL:https://crewpbtc.org/event/palm-beach-county-business-development-updates/
LOCATION:DoubleTree\, 4431 PGA Blvd\, Palm Beach Gardens\, FL\, 33410
ATTACH;FMTTYPE=image/jpeg:https://crewpbtc.org/wp-content/uploads/2022/07/Kelly-Smallridge-Event-August-9-2022.jpg
END:VEVENT
BEGIN:VEVENT
DTSTART;TZID=America/New_York:20220727T120000
DTEND;TZID=America/New_York:20220727T130000
DTSTAMP:20260424T031232
CREATED:20220222T123203Z
LAST-MODIFIED:20220222T123203Z
UID:6977-1658923200-1658926800@crewpbtc.org
SUMMARY:Programs Committee Meeting
DESCRIPTION:The programs committee meets monthly. For more information\, contact the committee chair\, Jamie Beale Howe at jamie@jbh.enterprises
URL:https://crewpbtc.org/event/programs-committee-meeting-6/
LOCATION:Florida
END:VEVENT
BEGIN:VEVENT
DTSTART;TZID=America/New_York:20220715T090000
DTEND;TZID=America/New_York:20220715T110000
DTSTAMP:20260424T031232
CREATED:20220122T220152Z
LAST-MODIFIED:20220122T220152Z
UID:6832-1657875600-1657882800@crewpbtc.org
SUMMARY:Board of Directors Mid-Year Strategic Planning Meeting
DESCRIPTION:
URL:https://crewpbtc.org/event/board-of-directors-mid-year-strategic-planning-meeting-2/
LOCATION:Florida
END:VEVENT
BEGIN:VEVENT
DTSTART;TZID=America/New_York:20220712T170000
DTEND;TZID=America/New_York:20220712T200000
DTSTAMP:20260424T031232
CREATED:20220614T210425Z
LAST-MODIFIED:20220912T162450Z
UID:7084-1657645200-1657656000@crewpbtc.org
SUMMARY:Past Presidents Council hosting New CREW PBTC Members Meet & Greet
DESCRIPTION:CREW PBTC Past Presidents Council is hosting a Meet and Greet for our New Members.  \nThis is a member only event. \nThe July 12th event has been postponed. Update Coming soon! \nTuesday\, July 12th\n5:00-8:00 PM \nCooper’s Hawk Winery\n3101 PGA Boulevard Ste P201\nPalm Beach Gardens\, FL 33410 \nMembers Only – $30
URL:https://crewpbtc.org/event/past-presidents-council-hosting-new-crew-pbtc-members-meet-greet/
LOCATION:Cooper’s Hawk Winery\, 3101 PGA Boulevard Ste P201\, Palm Beach Gardens\, FL\, 33410
ATTACH;FMTTYPE=image/jpeg:https://crewpbtc.org/wp-content/uploads/2022/06/July-12-Event-Postphoned.jpg
END:VEVENT
BEGIN:VEVENT
DTSTART;TZID=America/New_York:20220628T113000
DTEND;TZID=America/New_York:20220628T130000
DTSTAMP:20260424T031232
CREATED:20220602T161858Z
LAST-MODIFIED:20220707T134628Z
UID:7057-1656415800-1656421200@crewpbtc.org
SUMMARY:June Lunch and Learn Events:  From Adversity to a Life of Purpose
DESCRIPTION:Please join us as these inspiring Professional Life and Business Coaches discuss challenges women face in a male-dominated industry\, the power of showing up as your authentic selves\, and how to create work/life balance. \nDate: Tuesday\, June 28th 2022\nTime: 11:30 AM – 1 PM\nThrough June 20th\, 2022:  Members $25/Future Members $30\nPrice Increases by $10 on June 21st. \nTreasure Coast Event\n\nSpeaker: Julie McMahon\, Performance Coach\, Business Consultant and Leadership & Wellness Contributor for the Daily Drip Read Bio\nLocation: The Stuart Boathouse\, 49 Seminole St.\, Stuart\, FL\nREGISTER\nEvent with Julie McMahon: https://www.crewnetwork.org/special-pages/event-registration?eventId=fc83c401-e9db-401f-a8a3-f7c438cccd13 \nPalm Beach Event\n\nSpeaker: Aileen Castellano\, CEO and Executive Business Partner\, The Castellano Group Read Bio\nLocation: CityPlace Tower\, 525 Okeechobee Blvd\, 7th Floor Conference Room\, WPB FL\nREGISTER\nEvent with Aileen Castellano: https://www.crewnetwork.org/special-pages/event-registration?eventId=5a778e5f-74d7-4c1c-b4b1-e6a3718d277d
URL:https://crewpbtc.org/event/june-lunch-and-learn-events-from-adversity-to-a-life-of-purpose/
LOCATION:Florida
ATTACH;FMTTYPE=image/jpeg:https://crewpbtc.org/wp-content/uploads/2022/06/June-2022-Lunch-and-Learn-CREW-Events.jpg
END:VEVENT
BEGIN:VEVENT
DTSTART;TZID=America/New_York:20220622T120000
DTEND;TZID=America/New_York:20220622T130000
DTSTAMP:20260424T031232
CREATED:20220222T123112Z
LAST-MODIFIED:20220222T123112Z
UID:6975-1655899200-1655902800@crewpbtc.org
SUMMARY:Programs Committee Meeting
DESCRIPTION:The programs committee meets monthly. For more information\, contact the committee chair\, Jamie Beale Howe at jamie@jbh.enterprises
URL:https://crewpbtc.org/event/programs-committee-meeting-5/
LOCATION:Florida
END:VEVENT
BEGIN:VEVENT
DTSTART;TZID=America/New_York:20220617T090000
DTEND;TZID=America/New_York:20220617T110000
DTSTAMP:20260424T031232
CREATED:20220122T220058Z
LAST-MODIFIED:20220122T220058Z
UID:6830-1655456400-1655463600@crewpbtc.org
SUMMARY:Board of Directors Meeting
DESCRIPTION:
URL:https://crewpbtc.org/event/board-of-directors-meeting-27/
LOCATION:Florida
END:VEVENT
BEGIN:VEVENT
DTSTART;TZID=America/New_York:20220614T113000
DTEND;TZID=America/New_York:20220614T130000
DTSTAMP:20260424T031232
CREATED:20220512T134808Z
LAST-MODIFIED:20220707T134557Z
UID:1908-1655206200-1655211600@crewpbtc.org
SUMMARY:Palm Beach County Property Appraiser - Insights & Updates
DESCRIPTION:Palm Beach County Property Appraiser – Insights & Updates \nCome hear what Dorothy has to share about property valuation trends\, the housing market and property taxes\, the impact to city and county budgets\, and what we can expect to see in the future. Don’t miss out! \n  \nTuesday\, June 14\, 2022 \n11:30am – 1:00pm \nHilton Garden Inn at the Outlets \n1675 Palm Beach Lakes Blvd \nWest Palm Beach\, FL 33401 \n  \nSpeaker: Dorothy Jacks\, CFA\, AAS \nPalm Beach County Property Appraiser \n  \nMembers $50 | Nonmembers $60 \nPrice increases by $10 on June 7. \nSpeaker bio: Bio PDF \nRegistration: Register Here
URL:https://crewpbtc.org/event/palm-beach-county-property-appraiser-insights-updates/
LOCATION:Hilton Garden Inn West Palm Beach at the Outlets\, 1675 Palm Beach Lakes Blvd.\, West Palm Beach\, FL\, United States
ATTACH;FMTTYPE=image/jpeg:https://crewpbtc.org/wp-content/uploads/2017/03/Dorothy-Jacks-Event-June-14-2022.jpg
END:VEVENT
BEGIN:VEVENT
DTSTART;TZID=America/New_York:20220525T120000
DTEND;TZID=America/New_York:20220525T130000
DTSTAMP:20260424T031232
CREATED:20220222T123023Z
LAST-MODIFIED:20220222T123023Z
UID:6973-1653480000-1653483600@crewpbtc.org
SUMMARY:Programs Committee Meeting
DESCRIPTION:The programs committee meets monthly. For more information\, contact the committee chair\, Jamie Beale Howe at jamie@jbh.enterprises
URL:https://crewpbtc.org/event/programs-committee-meeting-4/
LOCATION:Florida
END:VEVENT
BEGIN:VEVENT
DTSTART;TZID=America/New_York:20220524T173000
DTEND;TZID=America/New_York:20220524T193000
DTSTAMP:20260424T031232
CREATED:20220415T211133Z
LAST-MODIFIED:20220512T161231Z
UID:6853-1653413400-1653420600@crewpbtc.org
SUMMARY:May's Dine Around
DESCRIPTION:Members Only Dine Around \nTuesday\, May 24\, 2022 \n  \nChoose from Palm Beach Gardens or Treasure Coast \nEach group limited to 10 people \nMembers $15 \n  \nPalm Beach Gardens – details coming soon \n  \nTreasure Coast \n5:30 pm – 7:30 pm \nStuart Boathouse \n49 SW Seminole Street \nStuart\, FL 34997 \nSponsored by: n2 architecture + design & Tambone Companies \nTreasure Coast registration: \nhttps://crewnetwork.org/special-pages/event-registration?eventId=8a4bba9d-a4e1-41a2-9382-e6ccbe84a7ff
URL:https://crewpbtc.org/event/save-the-date-mays-dine-around/
LOCATION:Florida
ATTACH;FMTTYPE=image/jpeg:https://crewpbtc.org/wp-content/uploads/2022/01/CREW-Dine-Around-Logo-01.jpg
END:VEVENT
BEGIN:VEVENT
DTSTART;TZID=America/New_York:20220520T090000
DTEND;TZID=America/New_York:20220520T110000
DTSTAMP:20260424T031232
CREATED:20220122T220027Z
LAST-MODIFIED:20220122T220027Z
UID:6828-1653037200-1653044400@crewpbtc.org
SUMMARY:Board of Directors Meeting
DESCRIPTION:
URL:https://crewpbtc.org/event/board-of-directors-meeting-26/
LOCATION:Florida
END:VEVENT
BEGIN:VEVENT
DTSTART;TZID=America/New_York:20220517T113000
DTEND;TZID=America/New_York:20220517T130000
DTSTAMP:20260424T031232
CREATED:20220405T211043Z
LAST-MODIFIED:20220512T161242Z
UID:6851-1652787000-1652792400@crewpbtc.org
SUMMARY:Planning Projects for our Treasure Coast Region
DESCRIPTION:  \nPlanning Projects for our Treasure Coast Region \nGain insights into what is being planned in and around this booming region! \n  \nTuesday\, May 17\, 2022 \n11:30am – 1:00pm \nTwisted Tuna \n4290 SE Salerno Road \nStuart\, FL \n  \nSpeaker: Kim Delaney\, Ph.D. \nDirector of Strategic Development & Policy\, Treasure Coast Regional Planning Council \nSpeaker bio: http://crewpbtc.org/kim-delaney/ \nRegistration: https://crewnetwork.org/special-pages/event-registration?eventId=22d6500d-5b29-42b7-9668-4e3adfce18b8
URL:https://crewpbtc.org/event/save-the-date-mays-program/
LOCATION:Florida
ATTACH;FMTTYPE=image/jpeg:https://crewpbtc.org/wp-content/uploads/2022/04/CREW_Event_Box_5-10-22-01.jpg
END:VEVENT
BEGIN:VEVENT
DTSTART;TZID=America/New_York:20220427T120000
DTEND;TZID=America/New_York:20220427T130000
DTSTAMP:20260424T031232
CREATED:20220222T122933Z
LAST-MODIFIED:20220222T122933Z
UID:6971-1651060800-1651064400@crewpbtc.org
SUMMARY:Programs Committee Meeting
DESCRIPTION:The programs committee meets monthly. For more information\, contact the committee chair\, Jamie Beale Howe at jamie@jbh.enterprises
URL:https://crewpbtc.org/event/programs-committee-meeting-3/
LOCATION:Florida
END:VEVENT
BEGIN:VEVENT
DTSTART;TZID=America/New_York:20220426T113000
DTEND;TZID=America/New_York:20220426T130000
DTSTAMP:20260424T031232
CREATED:20220202T220821Z
LAST-MODIFIED:20220512T161249Z
UID:6847-1650972600-1650978000@crewpbtc.org
SUMMARY:Bus Tour: Port of Palm Beach
DESCRIPTION:Please join us for a lunch-and-learn with Carl Baker\, Director of Planning & Development\, as he and his team share the ins-and-outs of the Port and how they’re navigating through supply chain challenges.  We then jump on the bus and enjoy a navigated tour around the Port! \nMembers $50 | Future Members $60 \n(Price increases $10 4/19) \n  \nRegister: https://www.crewnetwork.org/special-pages/event-registration?eventId=aaa85dda-6346-4817-94da-a092f3e4111e
URL:https://crewpbtc.org/event/save-the-date-aprils-luncheon-program/
LOCATION:Florida
ATTACH;FMTTYPE=image/jpeg:https://crewpbtc.org/wp-content/uploads/2022/02/CREW_Event_Box_4-26-22-01.jpg
END:VEVENT
BEGIN:VEVENT
DTSTART;TZID=America/New_York:20220415T090000
DTEND;TZID=America/New_York:20220415T110000
DTSTAMP:20260424T031232
CREATED:20220122T215953Z
LAST-MODIFIED:20220122T215953Z
UID:6826-1650013200-1650020400@crewpbtc.org
SUMMARY:Board of Directors Meeting
DESCRIPTION:
URL:https://crewpbtc.org/event/board-of-directors-meeting-25/
LOCATION:Florida
END:VEVENT
END:VCALENDAR